BEGIN:VCALENDAR
PRODID:-//nbasw-atsnb.ca//EN
VERSION:2.0
METHOD:PUBLISH
BEGIN:VEVENT
DTSTART;TZID=America/Halifax:20210129T120000
DTEND;TZID=America/Halifax:20210129T150000
URL:https://nbasw-atsnb.ca/nouvelles/evenements-a-venir/enhancing-cultural-competence-webinar-fr-ca/
SUMMARY:Webinaire sur l'approfondissement des compétences culturelles
LOCATION:
DESCRIPTION:Working with clients who do not share our individual cultural identity can be challenging for mental health professionals. We know that building a strong therapeutic relationship is required for us to engage in meaningful work with clients.
END:VEVENT
END:VCALENDAR