BEGIN:VCALENDAR
PRODID:-//nbasw-atsnb.ca//EN
VERSION:2.0
METHOD:PUBLISH
BEGIN:VEVENT
DTSTART;TZID=America/Halifax:20200910T110000
DTEND;TZID=America/Halifax:20200910T180000
URL:https://nbasw-atsnb.ca/nouvelles/evenements-a-venir/new-calendar-event-3-fr-ca/
SUMMARY:Webinaire en Direct
LOCATION:
DESCRIPTION:Veuillez noter que cet événement et sa description sont en français:
END:VEVENT
END:VCALENDAR