BEGIN:VCALENDAR
PRODID:-//nbasw-atsnb.ca//EN
VERSION:2.0
METHOD:PUBLISH
BEGIN:VEVENT
DTSTART;TZID=America/Halifax:20200910T110000
DTEND;TZID=America/Halifax:20200910T180000
URL:https://nbasw-atsnb.ca/news-and-events/continuing-education/new-calendar-event-3/
SUMMARY:Live Webinar
LOCATION:
DESCRIPTION:Borderline Personality Disorder (BPD) is a clinical diagnosis that is often misunderstood. The experience associated with BPD involves intense emotional and behavioural challenges for both the individual and their relationships with the people around them.
END:VEVENT
END:VCALENDAR